BEGIN:VCALENDAR
VERSION:2.0
PRODID:-//Benedict Hegemann - ECPv6.3.2//NONSGML v1.0//EN
CALSCALE:GREGORIAN
METHOD:PUBLISH
X-ORIGINAL-URL:https://benemitc.de
X-WR-CALDESC:Veranstaltungen für Benedict Hegemann
REFRESH-INTERVAL;VALUE=DURATION:PT1H
X-Robots-Tag:noindex
X-PUBLISHED-TTL:PT1H
BEGIN:VTIMEZONE
TZID:Europe/Berlin
BEGIN:DAYLIGHT
TZOFFSETFROM:+0100
TZOFFSETTO:+0200
TZNAME:CEST
DTSTART:20260329T010000
END:DAYLIGHT
BEGIN:STANDARD
TZOFFSETFROM:+0200
TZOFFSETTO:+0100
TZNAME:CET
DTSTART:20261025T010000
END:STANDARD
END:VTIMEZONE
BEGIN:VEVENT
DTSTART;TZID=Europe/Berlin:20260520T200000
DTEND;TZID=Europe/Berlin:20260520T223000
DTSTAMP:20260421T173812
CREATED:20260311T183845Z
LAST-MODIFIED:20260311T183845Z
UID:8248-1779307200-1779316200@benemitc.de
SUMMARY:Poetry Slam Frankfurt #123
DESCRIPTION:Andivalent beim Poetry Slam Frankfurt | Photo: Corinna Kaiser \nDie Show\nDer gemütlichste Poetry Slam in Frankfurt am Main im Mai. \nSpom|pa|na|deln. Pluralwort. Schwierigkeiten\, Umstände\, ausgefallene\, widersetzliche Verhaltensweisen\, Sperenzchen. Herkunft: italienisch spampanata = Aufschneidereien. Im Wiener Dialekt oft verzögerte\, spaßige Einlagen oder unnötige Schwierigkeiten. \nDie Poetry Slammer:innen\nGregor Biberacher (Freiburg)\nTim Kuppler (Frankfurt)\nKatharina Marosz (Friedrichsdorf)\nJan Ludwig (Frankfurt am Main)\nt.b.a. \nModeriert von Benedict Hegemann. \nInformationen\nKunstverein Familie Montez\nHonsellstraße 7\n60314 Frankfurt am Main \nDatum | Mittwoch\, 20. Mai 2026\nEinlass | 19:00 Uhr\nBeginn | 20:00 Uhr \nTickets für den Poetry Slam Frankfurt im Mai\nVIP Ticket | 20€\nEintritt | 12€\nErmäßigt | 9€ \nAbendkasse | 15€\nErmäßigt | 11€ \nVorverkauf zzgl. Gebühren über EVENTIM online (www.klugfuchs.de) oder an lokalen Verkaufsstellen. VIP Tickets geben symbolischen Mäzen-Status der Show und beinhalten die Reservierung von 10 limitierten Sitzplätzen auf Sessel und Sofas vor der Bühne\, sowie einen Begrüßungssekt. \nLinks\n› Poetry Slam Frankfurt\n› Kunstverein Familie Montez \n› Instagramseite\n› Facebookseite \n› Facebookevent \nModerator Benedict Hegemann | Photo: Corinna Kaiser \nPoetry Slam Frankfurt im Mai\nIn den Schluchten der Stadt\, wo an Wolken gekratzt wird\, strahlt aus Gassen die raue Kultur empor. An den Buchten von Glas und Beton kratzen wir an den Seelen ihrer Menschen. Wir sind das Spaßfaserkabel\, das Herzen vernetzt. Wir sind die kreative Verschmutzung zwischen Hochglanzbankern und Drogendealern. Wir sind sus. Wenn in China ein Sack Reis umfällt\, schreiben wir darüber einen Text. Und er ist gut. \nJeden Monat erwarten euch eingeladene Poetry Slammer:innen aus ganz Deutschland. Hier im gemütlichsten Dichterwettstreit Frankfurts dürfen sie alle Mittel der Bühnenliteratur ziehen\, um euch zu beeindrucken. Solange sie sich an die wenigen Regeln des Wettbewerbs halten (selbstgeschriebener Text\, Zeitlimit von 6 Minuten\, keine Requisiten\, nur zitierter Gesang) obliegt es an ihnen\, ob sie euch mit Lustigem\, Ernstem\, Lyrischem oder Prosaischem beeindrucken wollen. Ihr als Zuschauer bewertet die Poet:innen  und entscheidet\, wer im Finale noch einmal auftreten darf und dann dort\, wer den Slam schlussendlich gewinnt. Interessierte\, die sich gerne im Slam erproben möchten\, melden sich bitte vorher an. \nDie Jury des Poetry Slam Frankfurt im Mai ist das Publikum. | Photo: Corinna Kaiser
URL:https://benemitc.de/event/poetry-slam-frankfurt-123/
LOCATION:Kunstverein Familie Montez\, Honsellstraße 7\, Frankfurt am Main\, 60314\, Deutschland
CATEGORIES:Moderation,Montez,Poetry Slam,Poetry Slam Frankfurt
END:VEVENT
END:VCALENDAR