BEGIN:VCALENDAR
VERSION:2.0
PRODID:-//Benedict Hegemann - ECPv6.3.2//NONSGML v1.0//EN
CALSCALE:GREGORIAN
METHOD:PUBLISH
X-ORIGINAL-URL:https://benemitc.de
X-WR-CALDESC:Veranstaltungen für Benedict Hegemann
REFRESH-INTERVAL;VALUE=DURATION:PT1H
X-Robots-Tag:noindex
X-PUBLISHED-TTL:PT1H
BEGIN:VTIMEZONE
TZID:Europe/Berlin
BEGIN:DAYLIGHT
TZOFFSETFROM:+0100
TZOFFSETTO:+0200
TZNAME:CEST
DTSTART:20240331T010000
END:DAYLIGHT
BEGIN:STANDARD
TZOFFSETFROM:+0200
TZOFFSETTO:+0100
TZNAME:CET
DTSTART:20241027T010000
END:STANDARD
END:VTIMEZONE
BEGIN:VEVENT
DTSTART;TZID=Europe/Berlin:20240215T200000
DTEND;TZID=Europe/Berlin:20240215T223000
DTSTAMP:20260423T212841
CREATED:20240115T173609Z
LAST-MODIFIED:20240215T145032Z
UID:7272-1708027200-1708036200@benemitc.de
SUMMARY:Poetry Slam Gießen #22
DESCRIPTION:Wehwalt Koslovsky beim Poetry Slam Gießen | Photo: Marian Linse \n\n\nDie Show\n\n\n\n\n\n\n\n\n\n\n\n\n\n\n\n\n\nDer elefantastischste Poetry Slam in Gießen im Februar. \nFaux|pax. Substantiv\, maskulin. Verstoß gegen gesellschaftliche Umgangsformen. Herkunft: französisch = falscher Tritt. Beispiel: „Statt Poetry Slam heute Sofa? Das wäre wohl ein großer Fauxpas.“ \nDie Künstler:innen\nFinn Holitzka (Koblenz)\nGregor Biberacher (Freiburg)\nNora Solcher (Frankfurt am Main)\nStevo (Gießen)\nElisabeth (Gießen)\nJoana Penner (Gießen) \n\n\n\n\n\n\n\n\n\n\n\n\n\n\n\n\n\nModeriert von Benedict Hegemann und Stefan Dörsing. \nInformationen\nJokus\nOstanlage 25A\n35390 Gießen\nAnkunft mit Bus zum »Berliner Platz« \nDatum | Donnerstag\, 15. Februar 2024\nEinlass | 19:00 Uhr\nBeginn | 20:00 Uhr \nTickets für den Poetry Slam Gießen im Februar\nVorverkauf | 12€\nErmäßigt | 9€ \nAbendkasse | 15€\nErmäßigt | 11€ \nVorverkauf zzgl. Gebühren über EVENTIM online (www.klugfuchs.de) oder an lokalen Verkaufsstellen. \nLinks\n› Poetry Slam Gießen\n› Jokus \n› Facebookseite\n› Facebookevent \n  \nPoetry Slam in der Kongresshalle Gießen | Photo: Marvin Ruppert \n\n\n\n\n\n\n\nPoetry Slam Gießen im Februar\nGießen\, die Stadt der Schwätzer\, Dichter und Denker\, lädt zum Poetry Slam ein. Hier die Justus-Liebig-Universität\, dort die Technische Hochschule Mittelhessen\, dazwischen das Elefantenklo. Ein Dönerdreieck mit sieben Dönerläden und für alle die damit nicht gerechnet haben: das Mathematikum. Eine Stadt wie ein Eintopf. Urig\, würzig und schmeckt immer nach Heimat. \nWahre Schönheit kommt von innen. Das spricht für Gießen und für die Texte auftretender Poet:innen\, die es zu bewerten gilt. Eingeladen aus ganz Deutschland buhlen sie monatlich um eure Gunst im Jokus. Selbstgeschriebener Text\, Zeitlimit von 6 Minuten und keine Requisiten bilden das Reglement des elefantastischsten Dichterwettstreits des Landes. Ihr seid die Jury\, kürt die Monatssieger:innen mit Liebe und habt für jede Saison mit Beifall wortwörtlich in der Hand\, wer Jahressieger:in wird und für uns bei den hessischen Poetry Slam Meisterschaften für Gießen antritt. \nDie Jury des Poetry Slams Gießen im Februar ist stets das Publikum.
URL:https://benemitc.de/event/poetry-slam-giessen-22/
LOCATION:Jokus\, Ostanlage 25A\, Frankfurt am Main\, Hessen\, 35390
CATEGORIES:Gießen,Moderation,Poetry Slam,Poetry Slam Gießen,Slam Mittelhessen
END:VEVENT
END:VCALENDAR