BEGIN:VCALENDAR
VERSION:2.0
PRODID:-//Benedict Hegemann - ECPv6.3.2//NONSGML v1.0//EN
CALSCALE:GREGORIAN
METHOD:PUBLISH
X-ORIGINAL-URL:https://benemitc.de
X-WR-CALDESC:Veranstaltungen für Benedict Hegemann
REFRESH-INTERVAL;VALUE=DURATION:PT1H
X-Robots-Tag:noindex
X-PUBLISHED-TTL:PT1H
BEGIN:VTIMEZONE
TZID:Europe/Berlin
BEGIN:DAYLIGHT
TZOFFSETFROM:+0100
TZOFFSETTO:+0200
TZNAME:CEST
DTSTART:20230326T010000
END:DAYLIGHT
BEGIN:STANDARD
TZOFFSETFROM:+0200
TZOFFSETTO:+0100
TZNAME:CET
DTSTART:20231029T010000
END:STANDARD
END:VTIMEZONE
BEGIN:VEVENT
DTSTART;VALUE=DATE:20231111
DTEND;VALUE=DATE:20231114
DTSTAMP:20260425T131022
CREATED:20231002T125127Z
LAST-MODIFIED:20231002T135705Z
UID:7123-1699682400-1699855199@benemitc.de
SUMMARY:Poetry Slam Workshop Gießen - SlamU20
DESCRIPTION:Zwei Tage Poetry Slam Workshop in Wetzlar. \n\n\nDer Poetry Slam Workshop von SlamU20\n\n\n\n\n\n\n\n\n\n\n\n\n\n\n\n\n\nWillkommen zum kostenlosen Poetry Slam Workshop in Gießen! Mit Fördermitteln des Gießen-Wetzlar Fonds bieten wir dir zwei volle Tage\, um in die Welt des Poetry Slams rein zu schnuppern und deine erste Bühnenluft zu atmen. Spielerisch jonglieren wir mit Worten und Sprache. Wir arbeiten an deinem ersten Poetry Slam Text und üben mit dir deine Performance am Mikrofon. Einzige Teilnahmebedingung ist\, dass du noch nicht das Alter von 27 Jahren überschritten haben darfst. Einfach anmelden und mitmachen! \nDie Workshopleitung\nDer Workshop wird geleitet von Stefan Dörsing. \n\n\n\n\n\n\n\n\n\n\n\n\n\n\n\n\n\nInformationen\nJokus\nOstanlage 25A\n35390 Gießen\nAnkunft mit Bus zum »Berliner Platz« \nDatum | 11.-12. November 2023\nZeit | 12:00 – 17:00 Uhr \nAnmeldung für den Poetry Slam Workshop in Gießen im November\nTeilnahme frei! Bitte meldet euch vorab an über unser Online-Formular unter www.slamu20.de. \nAm Abschlusstag findet um 20 Uhr der Newcomer Slam Gießen statt\, wo ihr eingeladen seid in kleiner Runde euren Text auf einer Bühne auszuprobieren. \nLinks\n› SlamU20\n› Jokus Gießen \n› Facebookseite\n› Facebookevent \n  \nDer Workshop wird geleitet von Stefan Dörsing | Photo: Tobias Heyel \n\n\n\n\n\n\n\nSlamU20 im November\nSlamU20 ist das Nachwuchsprojekt unserer hessenweiten Poetry Slam Kollektivs Hessenslam. Was wäre ein Poetry Slam ohne die mutigen Newcomer:innen? Ohne die lokalen Helden und Heldinnen\, die sich erstmals an das Mikrofon wagen und im Rausch des Lampenfiebers ihre Performance ausleben. Und dann der Applaus mit dem Respekt für die Darbietung. Wir möchten im Zuge von beiden Workshops in Wetzlar und Gießen\, sowie den damit stattfindenden Newcomer Slams\, das Scheinwerferlicht auf euch richten. \nGefördert durch den Gießen-Wetzlar Kulturfonds 2023. \nVom Poetry Slam Workshop auf die Bühne des Newcomer Slams beim SlamU20 | Photo: Marian Linse
URL:https://benemitc.de/event/poetry-slam-workshop-giessen-slamu20/
LOCATION:Jokus\, Ostanlage 25A\, Frankfurt am Main\, Hessen\, 35390
CATEGORIES:Poetry Slam,Poetry Slam Gießen,Slam Mittelhessen,SlamU20,Wetzlar,Workshop
END:VEVENT
BEGIN:VEVENT
DTSTART;TZID=Europe/Berlin:20231112T200000
DTEND;TZID=Europe/Berlin:20231112T220000
DTSTAMP:20260425T131022
CREATED:20231002T130332Z
LAST-MODIFIED:20231017T212111Z
UID:7129-1699819200-1699826400@benemitc.de
SUMMARY:Newcomer Slam Gießen - SlamU20
DESCRIPTION:Der Newcomer Slam in Gießen. \n\n\nDer Newcomer Slam von SlamU20\n\n\n\n\n\n\n\n\n\n\n\n\n\n\n\n\n\nDer Poetry Slam eurer lokalen Held:innen. Unterstützt die lokale Szene und besucht uns zum großen Abschluss des SlamU20-Projektes in Gießen! Zwei Tage lang haben unsere Teilnehmer:innen an ihren ersten Texten und Performances getüftelt\, die sie für euch jetzt druckfrisch und lebensnah auf der Bühne performen werden. Gerne könnt ihr euch für den Workshop anmelden\, oder gar auch nur für den Newcomer Slam alleine. \nModeratiom\nModeriert von Stefan Dörsing. \n\n\n\n\n\n\n\n\n\n\n\n\n\n\n\n\n\nInformationen\nJokus\nOstanlage 25A\n35390 Gießen\nAnkunft mit Bus zum »Berliner Platz« \nDatum | 12. November 2023\nEinlass | 19:00 Uhr\nBeginn | 20:00 Uhr \nTickets für den Newcomer Slam in Gießen im November\nVorverkauf | 10€\nErmäßigt | 7€ \nAbendkasse | 12€\nErmäßigt | 9€ \nVorverkauf zzgl. Gebühren über EVENTIM online (www.klugfuchs.de) oder an lokalen Verkaufsstellen. Zum Workshop am 11. & 12. November könnt ihr euch kostenfrei über www.slamu20.de anmelden. \nLinks\n› SlamU20\n› Stadtbibliothek Wetzlar \n› Facebookseite\n› Facebookevent \n  \nDer Newcomer Slam wird moderiert von Stefan Dörsing | Photo: Marian Linse \n\n\n\n\n\n\n\nSlamU20 im November\nSlamU20 ist das Nachwuchsprojekt unserer hessenweiten Poetry Slam Kollektivs Hessenslam. Was wäre ein Poetry Slam ohne die mutigen Newcomer:innen? Ohne die lokalen Helden und Heldinnen\, die sich erstmals an das Mikrofon wagen und im Rausch des Lampenfiebers ihre Performance ausleben. Und dann der Applaus mit dem Respekt für die Darbietung. Wir möchten im Zuge von beiden Workshops in Wetzlar und Gießen\, sowie den damit stattfindenden Newcomer Slams\, das Scheinwerferlicht auf euch richten. \nGefördert durch den Gießen-Wetzlar Kulturfonds 2023. \nVom Poetry Slam Workshop auf die Bühne des Newcomer Slams beim SlamU20 | Photo: Marian Linse
URL:https://benemitc.de/event/newcomer-slam-giessen-slamu20/
LOCATION:Jokus\, Ostanlage 25A\, Frankfurt am Main\, Hessen\, 35390
CATEGORIES:Gießen,Jokus,Newcomer Slam,Poetry Slam,Poetry Slam Gießen,Slam Mittelhessen,SlamU20
END:VEVENT
BEGIN:VEVENT
DTSTART;TZID=Europe/Berlin:20231116T200000
DTEND;TZID=Europe/Berlin:20231116T223000
DTSTAMP:20260425T131022
CREATED:20231020T140023Z
LAST-MODIFIED:20231108T193814Z
UID:7181-1700164800-1700173800@benemitc.de
SUMMARY:Poetry Slam Gießen #19
DESCRIPTION:Julia Chapeau beim Poetry Slam Gießen | Photo: Corinna Kaiser \n\n\nDie Show\n\n\n\n\n\n\n\n\n\n\n\n\n\n\n\n\n\nDer elefantastischste Poetry Slam in Gießen im November. \nKnit|tel|vers. Substantiv\, maskulin. Vierhebiger\, paarweise gereimter Vers mit unregelmäßigen Senkungen. Herkunft: frühneuhochdeutsch knittel = Reim. Beispiel: „Das Versmaß hat so eher Knittel und biegt sich wie Falten vom Kittel.“ \nDie Künstler:innen\nEmm Weyrauch (Frankfurt am Main)\nJohanna Schubert (Darmstadt)\nJulia Zimmermann (Frankfurt am Main)\nAaron Schlünz (Gießen)\nLuisa (Gießen)\nThomas Eiwen (Rosenheim) \n\n\n\n\n\n\n\n\n\n\n\n\n\n\n\n\n\nModeriert von Benedict Hegemann und Stefan Dörsing. \nInformationen\nJokus\nOstanlage 25A\n35390 Gießen\nAnkunft mit Bus zum »Berliner Platz« \nDatum | Donnerstag\, 16. November 2023\nEinlass | 19:00 Uhr\nBeginn | 20:00 Uhr \nTickets für den Poetry Slam Gießen im November\nVorverkauf | 12€\nErmäßigt | 9€ \nAbendkasse | 15€\nErmäßigt | 11€ \nVorverkauf zzgl. Gebühren über EVENTIM online (www.klugfuchs.de) oder an lokalen Verkaufsstellen. \nLinks\n› Poetry Slam Gießen\n› Jokus \n› Facebookseite\n› Facebookevent \n  \nPoetry Slam in der Kongresshalle Gießen | Photo: Marvin Ruppert \n\n\n\n\n\n\n\nPoetry Slam Gießen im November\nGießen\, die Stadt der Schwätzer\, Dichter und Denker\, lädt zum Poetry Slam ein. Hier die Justus-Liebig-Universität\, dort die Technische Hochschule Mittelhessen\, dazwischen das Elefantenklo. Ein Dönerdreieck mit sieben Dönerläden und für alle die damit nicht gerechnet haben: das Mathematikum. Eine Stadt wie ein Eintopf. Urig\, würzig und schmeckt immer nach Heimat. \nWahre Schönheit kommt von innen. Das spricht für Gießen und für die Texte auftretender Poet:innen\, die es zu bewerten gilt. Eingeladen aus ganz Deutschland buhlen sie monatlich um eure Gunst im Jokus. Selbstgeschriebener Text\, Zeitlimit von 6 Minuten und keine Requisiten bilden das Reglement des elefantastischsten Dichterwettstreits des Landes. Ihr seid die Jury\, kürt die Monatssieger:innen mit Liebe und habt für jede Saison mit Beifall wortwörtlich in der Hand\, wer Jahressieger:in wird und für uns bei den hessischen Poetry Slam Meisterschaften für Gießen antritt. \nDie Jury des Poetry Slams Gießen im November ist stets das Publikum.
URL:https://benemitc.de/event/poetry-slam-giessen-19/
LOCATION:Jokus\, Ostanlage 25A\, Frankfurt am Main\, Hessen\, 35390
CATEGORIES:Gießen,Moderation,Poetry Slam,Poetry Slam Gießen,Slam Mittelhessen
END:VEVENT
END:VCALENDAR