BEGIN:VCALENDAR
VERSION:2.0
PRODID:-//Benedict Hegemann - ECPv6.3.2//NONSGML v1.0//EN
CALSCALE:GREGORIAN
METHOD:PUBLISH
X-ORIGINAL-URL:https://benemitc.de
X-WR-CALDESC:Veranstaltungen für Benedict Hegemann
REFRESH-INTERVAL;VALUE=DURATION:PT1H
X-Robots-Tag:noindex
X-PUBLISHED-TTL:PT1H
BEGIN:VTIMEZONE
TZID:Europe/Berlin
BEGIN:DAYLIGHT
TZOFFSETFROM:+0100
TZOFFSETTO:+0200
TZNAME:CEST
DTSTART:20230326T010000
END:DAYLIGHT
BEGIN:STANDARD
TZOFFSETFROM:+0200
TZOFFSETTO:+0100
TZNAME:CET
DTSTART:20231029T010000
END:STANDARD
END:VTIMEZONE
BEGIN:VEVENT
DTSTART;TZID=Europe/Berlin:20230503T200000
DTEND;TZID=Europe/Berlin:20230503T223000
DTSTAMP:20260424T131855
CREATED:20150129T003935Z
LAST-MODIFIED:20230425T143204Z
UID:6786-1683144000-1683153000@benemitc.de
SUMMARY:FES Poetry Slam Frankfurt #6
DESCRIPTION:  \n\n\n\n\n\n\n\n\n\n\n\nDer Themenslam der Friedrich Ebert Stiftung. \n\n\n\n\n\n\n\n\n\n\n\n\n\n\n\n\n\nDie Show\nDer jährliche Themen Poetry Slam der Friedrich Ebert Stiftung Hessen in Frankfurt am Main. \nEs ist das politische und gesellschaftliche Thema in Deutschland\, das seit einem guten Jahr alle anderen in den Hintergrund zu rücken scheint: Die wirtschaftliche Situation\, die mit rekordverdächtiger Inflation\, enorm gestiegenen Energiepreisen und ihren Auswirkungen auf den Arbeitsmarkt sehr viele Menschen vor große bis existenzielle Herausforderungen stellt. Auch das Vertrauen in den Staat und in die Demokratie leidet unter der ökonomischen Krise. Wie gehen wir damit um – individuell und als Gesellschaft? Wie steht es um unsere Solidarität miteinander\, um die politische Lösungsfähigkeit\, um die Perspektiven v.a. der jüngeren Generationen? \nDiesen und weiteren Fragen möchten wir zugespitzt und unterhaltsam auf den Grund gehen: Der Poetry Slam der Friedrich-Ebert-Stiftung Hessen ist ein Wettstreit der Dichter:innen auf der Bühne: Von Lyrik über Satire bis Prosa ist alles erlaubt und am Ende wird der/die Gewinner:in vom Publikum gekürt. \n\n\n\n\n\n\n\n\n\n\n\n\n\n\n\n\n\nDie Poetry Slammer:innen\nAlina Schmolke (Düsseldorf)\nAnna Lisa Azur (Berlin)\nHenrik Szanto (Hannover)\nMarvin Suckut (Konstanz)\nSebastian 23 (Bochum)\nWehwalt Koslovsky (Husum) \nModeriert von Benedict Hegemann. \nInformationen\nKunstverein Familie Montez\nHonsellstraße 7\n60314 Frankfurt am Main \n\n\n\n\n\n\n\n\n\n\n\n\n\nDatum | Mittwoch\, 03. Mai 2023\nEinlass | 19:00 Uhr\nBeginn | 20:00 Uhr \nTickets für den FES Slam \nDas Event ist ausverreserviert! \nEintritt frei! \nBitte melden Sie sich vorab zur Veranstaltung an: www.fes.de/lnk/fespoetryslam  \n\n\n\n\n\n\n\n\n\n\n\n\n\nLinks\n› Poetry Slam Frankfurt\n› Friedrich Ebert Stiftung Hessen \n\n\n\n\n\n\n\n› Instagramseite\n› Facebookseite\n› Facebookevent \n  \n\n\n\n\n\n\n\nModerator Benedict Hegemann \nDer FES Poetry Slam der Friedrich Ebert Stiftung\n\n\n\n\n\n\n\nHessen ist vielfältig: Ländliche Regionen\, zahlreiche Hochschulstandorte und die wirtschaftsstarke Rhein-Main-Region\, prägen das Land und die unterschiedlichen Lebensumstände und Interessen der Bürgerinnen und Bürger. So vielfältig das Land\, so vielfältig unser Bildungsangebot für Sie. \nWir fragen\, wie wir in Zukunft leben wollen und was dies bedeutet für unsere Demokratie\, Wirtschafts- und Sozialordnung\, unsere Integrations- und Bildungspolitik\, das Ehrenamt und vieles mehr. Wir suchen Antworten auf die spezifischen Herausforderungen in Hessen und erklären\, wie Entwicklungen vor Ort mit Entscheidungen auf Bundes- oder europäischer Ebene zusammenhängen. Mit unseren Schwerpunktsetzungen und kontinuierlichen Veranstaltungen bieten wir Bürgerinnen und Bürgern ein umfassendes Angebot zur politischen Orientierung und Information. \nDie Jury des FES Slams im Mai ist stets das Publikum.
URL:https://benemitc.de/event/fes-slam-6/
LOCATION:Kunstverein Familie Montez\, Honsellstraße 7\, Frankfurt am Main\, 60314\, Deutschland
CATEGORIES:FES Slam,Friedrich Ebert Stiftung,Moderation,Montez,Poetry Slam,Poetry Slam Frankfurt
END:VEVENT
END:VCALENDAR