BEGIN:VCALENDAR
VERSION:2.0
PRODID:-//Benedict Hegemann - ECPv6.3.2//NONSGML v1.0//EN
CALSCALE:GREGORIAN
METHOD:PUBLISH
X-WR-CALNAME:Benedict Hegemann
X-ORIGINAL-URL:http://benemitc.de
X-WR-CALDESC:Veranstaltungen für Benedict Hegemann
REFRESH-INTERVAL;VALUE=DURATION:PT1H
X-Robots-Tag:noindex
X-PUBLISHED-TTL:PT1H
BEGIN:VTIMEZONE
TZID:Europe/Paris
BEGIN:DAYLIGHT
TZOFFSETFROM:+0100
TZOFFSETTO:+0200
TZNAME:CEST
DTSTART:20230326T010000
END:DAYLIGHT
BEGIN:STANDARD
TZOFFSETFROM:+0200
TZOFFSETTO:+0100
TZNAME:CET
DTSTART:20231029T010000
END:STANDARD
BEGIN:DAYLIGHT
TZOFFSETFROM:+0100
TZOFFSETTO:+0200
TZNAME:CEST
DTSTART:20240331T010000
END:DAYLIGHT
BEGIN:STANDARD
TZOFFSETFROM:+0200
TZOFFSETTO:+0100
TZNAME:CET
DTSTART:20241027T010000
END:STANDARD
END:VTIMEZONE
BEGIN:VEVENT
DTSTART;TZID=Europe/Paris:20231231T213000
DTEND;TZID=Europe/Paris:20240101T033000
DTSTAMP:20260422T214840
CREATED:20231225T164057Z
LAST-MODIFIED:20231225T164225Z
UID:7253-1704058200-1704079800@benemitc.de
SUMMARY:Golden Twenties Darmstadt | Silvester
DESCRIPTION:Das Spektakel\n\nWillkommen zur Fête fantastique. \n\n\nAls Electro Swing Collective hat sich Hessens größter Electro Swing DJ Timcat mit Merle zusammengetan\, um die aufwändigste Extravaganz zu inszenieren\, wenn es darum geht eine Party zu feiern. Zu den Klängen der Live-Violine werdet ihr eure Tanzbeine schütteln als gäbe es kein Morgen mehr. Als ob das noch nicht genug wäre\, sorgen Jessica Thiedecke und Ramona Helder mit einer Reihe von Showtanzacts für eure Begeisterung. \n\n\nMit Live-Band\, Electro Swing Collective (Golden Twenties)\, Tanzenden Flamingos\, Feuerstelle\, Chill Lounge\, Soirée on Ice\, Cocktailbar\, Eisbar\, Eisskulptur\, Snack & Dine\, Karaoke-Ecke und Selfie Ecke. \n\n\nDie Künstler:innen\n‣ Timcat (Electro Swing DJ) 🎧🐈‍⬛ \n‣ Merle (Live Violine) 🎻🦜 \n‣ Jessica Thiedecke & Ramona Helder (Showtanz)  \nInformationen\n\nStaatstheater Darmstadt\nGeorg-Büchner-Platz 1\n64283 Darmstadt \nDatum | Sonntag\, 31. Dezember 2023\nBeginn | 21:30 Uhr\nEnde | 03:30 Uhr \nTickets für die Golden Twenties zu Silvester im Dezember\nEintritt | 30€ \nVorverkauf inklusive Gebühren über den Webshop des Theaters online. \n\nLinks\n› Golden Twenties\n› Staatstheater Darmstadt \n› Instagramseite\n› Facebookseite\n› Facebookevent \nDas Electro Swing Collective\nTimcat fusioniert Melodien und Klänge der Swing-Ära mit modernen Beats von heute. Nur das Beste\, was Electro Swing zu bieten hat mit Nuancen von Saxophon-EDM für die perfekte Atmosphäre. Feinste Musik auf den DJ-Tellern stillt euren Hunger nach guter Musik. Dabei ist es egal\, ob ihr Lindy Hop\, Charleston oder Firlefanz tanzt. Hauptsache ihr gönnt euch. Der Szene-DJ mixt live ohne vorbereitete Sets. Alles weilt im Moment\, um das pulsierende Verlangen der Menge zu spüren\, bis der Beat fällt und jeder den Verstand verliert. 🎧🐈‍⬛ \n  \nMerle vom Swing Bohème Orchestra performt live an der Live-Violine zu den aufgelegten Tracks. Als jahrelanges Mitglied der Jungen Kammerphilharmonie Rhein-Neckar ist M ganz in der Kunst der klassischen Musik aufgegangen. Jetzt erlebt ihr M’s Liebe für elektronische Musik\, im begeisterten tête-à-tête zwischen Jazz Manouche und Electro Swing. 🎻🦜 \nJessica Thiedecke ist Tänzerin\, Model und Choreographin. Mit Performances in Live Konzerten\, Theater Produktionen und Varieté Shows\, sowie auch vor der Kamera im Fernsehen ist sie erprobt im Erobern von Herzen. Als Gründerin der Tanz und Show Agentur ‚Strike a Pose‘ wird sie für euch den Flair der zwanziger Jahre wiederbeleben. Sie wird begleitet von Ramona Helder.  \n 
URL:http://benemitc.de/event/golden-twenties-16-darmstadt/
LOCATION:Staatstheater Darmstadt\, Georg-Büchner-Platz 1\, Darmstadt\, 64283\, Deutschland
CATEGORIES:Deutsches Filminstitut Filmmuseum,Electro Swing,Golden Twenties,Musik,Nacht der Museen,Party,Show
END:VEVENT
END:VCALENDAR