BEGIN:VCALENDAR
VERSION:2.0
PRODID:-//Benedict Hegemann - ECPv6.3.2//NONSGML v1.0//EN
CALSCALE:GREGORIAN
METHOD:PUBLISH
X-WR-CALNAME:Benedict Hegemann
X-ORIGINAL-URL:http://benemitc.de
X-WR-CALDESC:Veranstaltungen für Benedict Hegemann
REFRESH-INTERVAL;VALUE=DURATION:PT1H
X-Robots-Tag:noindex
X-PUBLISHED-TTL:PT1H
BEGIN:VTIMEZONE
TZID:Europe/Berlin
BEGIN:DAYLIGHT
TZOFFSETFROM:+0100
TZOFFSETTO:+0200
TZNAME:CEST
DTSTART:20250330T010000
END:DAYLIGHT
BEGIN:STANDARD
TZOFFSETFROM:+0200
TZOFFSETTO:+0100
TZNAME:CET
DTSTART:20251026T010000
END:STANDARD
END:VTIMEZONE
BEGIN:VEVENT
DTSTART;TZID=Europe/Berlin:20250219T200000
DTEND;TZID=Europe/Berlin:20250219T223000
DTSTAMP:20260419T182508
CREATED:20250123T135014Z
LAST-MODIFIED:20250219T111936Z
UID:7661-1739995200-1740004200@benemitc.de
SUMMARY:Poetry Slam Frankfurt #109
DESCRIPTION:Clemens Naumann beim Poetry Slam Frankfurt | Photo: Corinna Kaiser \nDie Show\nDer gemütlichste Poetry Slam in Frankfurt am Main im Februar. \nHupf|doh|le. Substantiv\, feminin. (Revue-)tänzerin. Herkunft: Hupf von hüpfen und Dohle wie der Vogel. \nDie Poetry Slammer:innen\nLara Ermer (Frankfurt am Main)\nJakob Schwerdtfeger (Frankfurt am Main)\nArtem Zolotarov (Mainz)\nHolger Rohls (Griesheim)\nLiv Behrens (Gießen)\nModeriert von Benedict Hegemann. \nInformationen\nKunstverein Familie Montez\nHonsellstraße 7\n60314 Frankfurt am Main \nDatum | Mittwoch\, 19. Februar 2024\nEinlass | 19:00 Uhr\nBeginn | 20:00 Uhr \nTickets für den Poetry Slam Frankfurt im Februar\nVIP Ticket | 20€\nEintritt | 12€\nErmäßigt | 9€ \nAbendkasse | 15€\nErmäßigt | 11€ \nVorverkauf zzgl. Gebühren über EVENTIM online (www.klugfuchs.de) oder an lokalen Verkaufsstellen. VIP Tickets geben symbolischen Mäzen-Status der Show und beinhalten die Reservierung von 10 limitierten Sitzplätzen auf Sessel und Sofas vor der Bühne\, sowie einen Begrüßungssekt. \nLinks\n› Poetry Slam Frankfurt\n› Kunstverein Familie Montez \n› Instagramseite\n› Facebookseite \n› Facebookevent \nModerator Benedict Hegemann | Photo: Corinna Kaiser \nPoetry Slam Frankfurt im Februar\nIn den Schluchten der Stadt\, wo an Wolken gekratzt wird\, strahlt aus Gassen die raue Kultur empor. An den Buchten von Glas und Beton kratzen wir an den Seelen ihrer Menschen. Wir sind das Spaßfaserkabel\, das Herzen vernetzt. Wir sind die kreative Verschmutzung zwischen Hochglanzbankern und Drogendealern. Wir sind sus. Wenn in China ein Sack Reis umfällt\, schreiben wir darüber einen Text. Und er ist gut. \nJeden Monat erwarten euch eingeladene Poetry Slammer:innen aus ganz Deutschland. Hier im gemütlichsten Dichterwettstreit Frankfurts dürfen sie alle Mittel der Bühnenliteratur ziehen\, um euch zu beeindrucken. Solange sie sich an die wenigen Regeln des Wettbewerbs halten (selbstgeschriebener Text\, Zeitlimit von 6 Minuten\, keine Requisiten\, nur zitierter Gesang) obliegt es an ihnen\, ob sie euch mit Lustigem\, Ernstem\, Lyrischem oder Prosaischem beeindrucken wollen. Ihr als Zuschauer bewertet die Poet:innen  und entscheidet\, wer im Finale noch einmal auftreten darf und dann dort\, wer den Slam schlussendlich gewinnt. Interessierte\, die sich gerne im Slam erproben möchten\, melden sich bitte vorher an. \nDie Jury des Poetry Slam Frankfurt im Februar ist das Publikum. | Photo: Corinna Kaiser
URL:http://benemitc.de/event/poetry-slam-frankfurt-109/
LOCATION:Kunstverein Familie Montez\, Honsellstraße 7\, Frankfurt am Main\, 60314\, Deutschland
CATEGORIES:Moderation,Montez,Poetry Slam,Poetry Slam Frankfurt
END:VEVENT
END:VCALENDAR